BEGIN:VCALENDAR
VERSION:2.0
PRODID:-// - ECPv5.14.2.1//NONSGML v1.0//EN
CALSCALE:GREGORIAN
METHOD:PUBLISH
X-ORIGINAL-URL:https://supercriticalfluidsociety.net
X-WR-CALDESC:Events for 
REFRESH-INTERVAL;VALUE=DURATION:PT1H
X-Robots-Tag:noindex
X-PUBLISHED-TTL:PT1H
BEGIN:VTIMEZONE
TZID:Asia/Shanghai
BEGIN:STANDARD
TZOFFSETFROM:+0800
TZOFFSETTO:+0800
TZNAME:CST
DTSTART:20250101T000000
END:STANDARD
END:VTIMEZONE
BEGIN:VEVENT
DTSTART;VALUE=DATE:20250615
DTEND;VALUE=DATE:20250621
DTSTAMP:20260420T092027
CREATED:20240904T145059Z
LAST-MODIFIED:20241216T143323Z
UID:9789-1749945600-1750463999@supercriticalfluidsociety.net
SUMMARY:ISSF-ISHA 2025
DESCRIPTION:14th International Symposium on Supercritical Fluids 9th International Solvothermal and Hydrothermal Association Conference\n  \n============================================================================================================================================ \n  \nREGISTRATION IS NOW OPENED!! \nCALL FOR PAPERS \nISSF-ISHA 2025 \n14th International Symposium on Supercritical Fluids \n9th International Solvothermal and Hydrothermal Association Conference \nhttps://www.issf-isha2025.com \n  We would like to invite you to participate in ISSF-ISHA 2025 that will be held on 15–20 June 2025 at Bali\, Indonesia \n  \nISSF-ISHA 2025 welcomes submissions in\, but not limited to\, the following themes: \n\nThermodynamics and Fluid Phase Equilibria\nPolymers/Materials Applications and Processes\nPharmaceutical & Biomedical Applications\nNatural Products and Food-related Materials\nReactions in Critical Fluids\nSeparation Processes\nHydrothermal/Solvothermal Synthesis and Processing\nProcess Intensification/Scale-up\nSustainable Feedstock Utilization and CO2 Conversion\nNovel Materials / Particle Formation / Nanotechnology\nGreen Chemistry and Engineering\n\n  \nImportant Dates \nAbstract Deadline   15 January 2025 \nEarly Bird Registration Deadline 15 January 2025 \nNotification of Acceptance  15 February 2025 \n  \nRegistration \nRegistration through link here: https://www.issf-isha2025.com/registration-now \n Or \n Registration: https://www.kiche.or.kr/_b2pC/en \n Booking for Conference Venue Hotel (Anvaya Beach Resort Bali) with a discounted price: https://www.kiche.or.kr/_BMY1/en \nAbstract Submission \nSubmission through link here: https://www.issf-isha2025.com/abstract-submission \nConference Venue \nAnvaya Beach Resort Bali \n https://www.theanvayabali.com/ \nContact Us \nISSF-ISHA Organizing Committee\n\nEmail:  issf.isha2025@gmail.com \n \n 
URL:https://supercriticalfluidsociety.net/event/issf-isha-2025-14th-international-symposium-on-supercritical-fluids-9th-international-solvothermal-and-hydrothermal-association-conference/
LOCATION:Bali\, Indonesia\, Indonesia
CATEGORIES:International Meeting
ATTACH;FMTTYPE=image/webp:https://supercriticalfluidsociety.net/wp-content/uploads/2024/10/issf-isha2025logo-1.webp
END:VEVENT
END:VCALENDAR