BEGIN:VCALENDAR
VERSION:2.0
PRODID:-// - ECPv5.14.2.1//NONSGML v1.0//EN
CALSCALE:GREGORIAN
METHOD:PUBLISH
X-ORIGINAL-URL:https://supercriticalfluidsociety.net
X-WR-CALDESC:Events for 
REFRESH-INTERVAL;VALUE=DURATION:PT1H
X-Robots-Tag:noindex
X-PUBLISHED-TTL:PT1H
BEGIN:VTIMEZONE
TZID:Europe/Paris
BEGIN:DAYLIGHT
TZOFFSETFROM:+0100
TZOFFSETTO:+0200
TZNAME:CEST
DTSTART:20230326T010000
END:DAYLIGHT
BEGIN:STANDARD
TZOFFSETFROM:+0200
TZOFFSETTO:+0100
TZNAME:CET
DTSTART:20231029T010000
END:STANDARD
BEGIN:DAYLIGHT
TZOFFSETFROM:+0100
TZOFFSETTO:+0200
TZNAME:CEST
DTSTART:20240331T010000
END:DAYLIGHT
BEGIN:STANDARD
TZOFFSETFROM:+0200
TZOFFSETTO:+0100
TZNAME:CET
DTSTART:20241027T010000
END:STANDARD
END:VTIMEZONE
BEGIN:VEVENT
DTSTART;TZID=Europe/Paris:20240526T160000
DTEND;TZID=Europe/Paris:20240526T170000
DTSTAMP:20260423T102405
CREATED:20230911T155728Z
LAST-MODIFIED:20240119T181141Z
UID:6259-1716739200-1716742800@supercriticalfluidsociety.net
SUMMARY:20th European Meeting on Supercritical Fluids (EMSF 2024)
DESCRIPTION:Dear Colleagues\, \nOn behalf of ISASF\, we are happy to announce that the 20th European Meeting on Supercritical Fluids (EMSF2024). \nDate: 26 – 29 May 2024 \nVenue: Maribor \nPoster Submission is opened up to . \nRegistration and sponsorship are also open now ! Please register on ourwebsite : emsf2024.com \nAny questions\, please feel free to contact us. \nWe are looking forward to seeing you soon in Maribor ! \nZeljko KNEZ\, EMSF2024\, Chair
URL:https://supercriticalfluidsociety.net/event/20th-european-meeting-on-supercritical-fluids-emsf-2024/
CATEGORIES:European Meeting
END:VEVENT
BEGIN:VEVENT
DTSTART;TZID=Europe/Paris:20230521T080000
DTEND;TZID=Europe/Paris:20230524T170000
DTSTAMP:20260423T102405
CREATED:20221003T140445Z
LAST-MODIFIED:20230216T163632Z
UID:3708-1684656000-1684947600@supercriticalfluidsociety.net
SUMMARY:19th European Meeting on Supercritical Fluids (EMSF2023)
DESCRIPTION:  \nDear Colleagues\, \nOn behalf of ISASF\, we are happy to announce the details regarding the 19th European Meeting on Supercritical Fluids (EMSF2023). \nDate: 21-24 May 2023 \nVenue: Budapest University of Technology and Economics\, Budapest\, Hungary \nPoster Submission is opened up to March 31 2023.  \nRegistration and sponsorship are also open now ! Please register on ourwebsite : https://emsf2023.com  \nAny questions\, please feel free to contact edit.szekely@edu.bme.hu \nWe are looking forward to seeing you soon in Budapest ! \nEdit Székely\, EMSF2023\, Chair
URL:https://supercriticalfluidsociety.net/event/19th-european-meeting-on-supercritical-fluids-emsf2023/
LOCATION:Hamburg University\, Hungary
CATEGORIES:European Meeting
END:VEVENT
END:VCALENDAR